BEGIN:VCALENDAR
VERSION:2.0
PRODID:-//JPEG Photo Club - ECPv6.15.20//NONSGML v1.0//EN
CALSCALE:GREGORIAN
METHOD:PUBLISH
X-ORIGINAL-URL:https://www.jpegphotoclub.fr
X-WR-CALDESC:Évènements pour JPEG Photo Club
REFRESH-INTERVAL;VALUE=DURATION:PT1H
X-Robots-Tag:noindex
X-PUBLISHED-TTL:PT1H
BEGIN:VTIMEZONE
TZID:Europe/Paris
BEGIN:DAYLIGHT
TZOFFSETFROM:+0100
TZOFFSETTO:+0200
TZNAME:CEST
DTSTART:20240331T010000
END:DAYLIGHT
BEGIN:STANDARD
TZOFFSETFROM:+0200
TZOFFSETTO:+0100
TZNAME:CET
DTSTART:20241027T010000
END:STANDARD
BEGIN:DAYLIGHT
TZOFFSETFROM:+0100
TZOFFSETTO:+0200
TZNAME:CEST
DTSTART:20250330T010000
END:DAYLIGHT
BEGIN:STANDARD
TZOFFSETFROM:+0200
TZOFFSETTO:+0100
TZNAME:CET
DTSTART:20251026T010000
END:STANDARD
BEGIN:DAYLIGHT
TZOFFSETFROM:+0100
TZOFFSETTO:+0200
TZNAME:CEST
DTSTART:20260329T010000
END:DAYLIGHT
BEGIN:STANDARD
TZOFFSETFROM:+0200
TZOFFSETTO:+0100
TZNAME:CET
DTSTART:20261025T010000
END:STANDARD
END:VTIMEZONE
BEGIN:VEVENT
DTSTART;TZID=Europe/Paris:20251202T193000
DTEND;TZID=Europe/Paris:20251202T220000
DTSTAMP:20260424T093510
CREATED:20251003T140003Z
LAST-MODIFIED:20251126T162628Z
UID:1012-1764703800-1764712800@www.jpegphotoclub.fr
SUMMARY:Séance Plénière
DESCRIPTION:Sondage pour le séjour dans le Luberon. \n\n\n\nPrésentation du planning des formations proposées par la fédération. \n\n\n\nQuestions/remarques/précision sur le site Internet \n\n\n\nOrganisation Atelier du jeudi et Café photo du jeudi 4 \n\n\n\nSoirée auteurs
URL:https://www.jpegphotoclub.fr/evenement/seance-pleniere-5/
LOCATION:Salle BAUSSAND\, 1341 Route du Mont\, Fillière\, 74370\, France
CATEGORIES:Pleniere
ATTACH;FMTTYPE=image/jpeg:https://www.jpegphotoclub.fr/wp-content/uploads/2025/10/Cross_Filliere_2023-1074.jpg
END:VEVENT
BEGIN:VEVENT
DTSTART;TZID=Europe/Paris:20251216T193000
DTEND;TZID=Europe/Paris:20251216T220000
DTSTAMP:20260424T093510
CREATED:20251003T140048Z
LAST-MODIFIED:20251209T095157Z
UID:1014-1765913400-1765922400@www.jpegphotoclub.fr
SUMMARY:Séance Plénière
DESCRIPTION:Résultats du challenge UR11 M2-Parapluie(s). \n\n\n\nSélection du thème du DéfiPhot Mensuel de Janvier \n\n\n\nSélection des photos UR11 – M3 – Nature Urbaine \n\n\n\nApéro d’avant Noël
URL:https://www.jpegphotoclub.fr/evenement/seance-pleniere-6/
LOCATION:Salle BAUSSAND\, 1341 Route du Mont\, Fillière\, 74370\, France
CATEGORIES:Pleniere
ATTACH;FMTTYPE=image/jpeg:https://www.jpegphotoclub.fr/wp-content/uploads/2025/11/wine-6688901_640.jpg
END:VEVENT
END:VCALENDAR