BEGIN:VCALENDAR
VERSION:2.0
PRODID:-//JPEG Photo Club - ECPv6.15.20//NONSGML v1.0//EN
CALSCALE:GREGORIAN
METHOD:PUBLISH
X-ORIGINAL-URL:https://www.jpegphotoclub.fr
X-WR-CALDESC:Évènements pour JPEG Photo Club
REFRESH-INTERVAL;VALUE=DURATION:PT1H
X-Robots-Tag:noindex
X-PUBLISHED-TTL:PT1H
BEGIN:VTIMEZONE
TZID:Europe/Paris
BEGIN:DAYLIGHT
TZOFFSETFROM:+0100
TZOFFSETTO:+0200
TZNAME:CEST
DTSTART:20250330T010000
END:DAYLIGHT
BEGIN:STANDARD
TZOFFSETFROM:+0200
TZOFFSETTO:+0100
TZNAME:CET
DTSTART:20251026T010000
END:STANDARD
BEGIN:DAYLIGHT
TZOFFSETFROM:+0100
TZOFFSETTO:+0200
TZNAME:CEST
DTSTART:20260329T010000
END:DAYLIGHT
BEGIN:STANDARD
TZOFFSETFROM:+0200
TZOFFSETTO:+0100
TZNAME:CET
DTSTART:20261025T010000
END:STANDARD
BEGIN:DAYLIGHT
TZOFFSETFROM:+0100
TZOFFSETTO:+0200
TZNAME:CEST
DTSTART:20270328T010000
END:DAYLIGHT
BEGIN:STANDARD
TZOFFSETFROM:+0200
TZOFFSETTO:+0100
TZNAME:CET
DTSTART:20271031T010000
END:STANDARD
END:VTIMEZONE
BEGIN:VEVENT
DTSTART;TZID=Europe/Paris:20260424T100000
DTEND;TZID=Europe/Paris:20260424T190000
DTSTAMP:20260423T175111
CREATED:20260209T084519Z
LAST-MODIFIED:20260209T085442Z
UID:1786-1777024800-1777057200@www.jpegphotoclub.fr
SUMMARY:Festival Inter'Nature du Haut-Jura
DESCRIPTION:Trente cinq artistes et photographes seront mélangés sur le Palais des Sports et la Salle des fêtes.  \n\n\n\nLes conférences et les films se tiendront au cinéma de la Maison du Peuple (La Fraternelle)
URL:https://www.jpegphotoclub.fr/evenement/festival-internature-du-haut-jura/
LOCATION:Saint-Claude\, Saint-Claude\, France
CATEGORIES:Evenement
ATTACH;FMTTYPE=image/jpeg:https://www.jpegphotoclub.fr/wp-content/uploads/2026/02/FINA2026-Affiche-v2.jpg
END:VEVENT
BEGIN:VEVENT
DTSTART;TZID=Europe/Paris:20260425T080000
DTEND;TZID=Europe/Paris:20260425T200000
DTSTAMP:20260423T175111
CREATED:20251209T105008Z
LAST-MODIFIED:20251209T105023Z
UID:1583-1777104000-1777147200@www.jpegphotoclub.fr
SUMMARY:Sortie Les Cascades du Hérisson
DESCRIPTION:Les Cascades du Hérisson et leur vallée sont l’un des plus grands sites naturels de la région. Ici\, ce sont pas moins de 31 chutes d’eau (dont 7 principales) qui se succèdent en forêt ! Le torrent du Hérisson est formé par les eaux des lacs de Bonlieu et d’Ilay\, et suit ainsi un parcours de 3\,7 km. \n\n\n\nUn lieu empli de magie\, que vous apprécierez à chaque saison. La cascade de l’Éventail en particulier\, avec ses 65 mètres de haut\, offre un magnifique spectacle où l’eau jaillit de toutes parts.  \n\n\n\nDepuis 2017\, les Cascades ont pour projet d’être classées Grand site de France.
URL:https://www.jpegphotoclub.fr/evenement/sortie-cascade-du-herisson/
LOCATION:Cascades du Hérisson\, 16 moulin du val\, mménetrux-en-joue\, France
CATEGORIES:Evenement
ATTACH;FMTTYPE=image/jpeg:https://www.jpegphotoclub.fr/wp-content/uploads/2025/12/cascade_herisson.jpg
END:VEVENT
BEGIN:VEVENT
DTSTART;TZID=Europe/Paris:20260425T100000
DTEND;TZID=Europe/Paris:20260425T190000
DTSTAMP:20260423T175111
CREATED:20260209T085109Z
LAST-MODIFIED:20260209T085512Z
UID:1795-1777111200-1777143600@www.jpegphotoclub.fr
SUMMARY:Festival Inter'Nature du Haut-Jura
DESCRIPTION:Trente cinq artistes et photographes seront mélangés sur le Palais des Sports et la Salle des fêtes.  \n\n\n\nLes conférences et les films se tiendront au cinéma de la Maison du Peuple (La Fraternelle)
URL:https://www.jpegphotoclub.fr/evenement/festival-internature-du-haut-jura-2/
LOCATION:Saint-Claude\, Saint-Claude\, France
CATEGORIES:Evenement
ATTACH;FMTTYPE=image/jpeg:https://www.jpegphotoclub.fr/wp-content/uploads/2026/02/FINA2026-Affiche-v2.jpg
END:VEVENT
BEGIN:VEVENT
DTSTART;TZID=Europe/Paris:20260426T100000
DTEND;TZID=Europe/Paris:20260426T190000
DTSTAMP:20260423T175111
CREATED:20260209T085241Z
LAST-MODIFIED:20260209T085408Z
UID:1796-1777197600-1777230000@www.jpegphotoclub.fr
SUMMARY:Festival Inter'Nature du Haut-Jura
DESCRIPTION:Trente cinq artistes et photographes seront mélangés sur le Palais des Sports et la Salle des fêtes.  \n\n\n\nLes conférences et les films se tiendront au cinéma de la Maison du Peuple (La Fraternelle)
URL:https://www.jpegphotoclub.fr/evenement/festival-internature-du-haut-jura-3/
LOCATION:Saint-Claude\, Saint-Claude\, France
CATEGORIES:Evenement
ATTACH;FMTTYPE=image/jpeg:https://www.jpegphotoclub.fr/wp-content/uploads/2026/02/FINA2026-Affiche-v2.jpg
END:VEVENT
BEGIN:VEVENT
DTSTART;TZID=Europe/Paris:20260505T193000
DTEND;TZID=Europe/Paris:20260505T220000
DTSTAMP:20260423T175111
CREATED:20251209T110444Z
LAST-MODIFIED:20251209T110445Z
UID:1590-1778009400-1778018400@www.jpegphotoclub.fr
SUMMARY:Séance plénière
DESCRIPTION:Projection\, analyse des photos du DéfiPhot d’avril et attribution des coups de cœurs \n\n\n\nProjection des photos de la sortie Cascades du Hérisson \n\n\n\nPréparation séjour Lubéron
URL:https://www.jpegphotoclub.fr/evenement/seance-pleniere-15/
LOCATION:Salle BAUSSAND\, 1341 Route du Mont\, Fillière\, 74370\, France
CATEGORIES:Pleniere
ATTACH;FMTTYPE=image/webp:https://www.jpegphotoclub.fr/wp-content/uploads/2025/12/SMB-chef-lieu.webp
END:VEVENT
BEGIN:VEVENT
DTSTART;TZID=Europe/Paris:20260507T140000
DTEND;TZID=Europe/Paris:20260507T183000
DTSTAMP:20260423T175111
CREATED:20251209T111313Z
LAST-MODIFIED:20251209T111313Z
UID:1597-1778162400-1778178600@www.jpegphotoclub.fr
SUMMARY:Atelier technique
DESCRIPTION:Selon demande des adhérents et adhérents
URL:https://www.jpegphotoclub.fr/evenement/atelier-technique-4/
LOCATION:Salle BAUSSAND\, 1341 Route du Mont\, Fillière\, 74370\, France
CATEGORIES:Atelier
ATTACH;FMTTYPE=image/png:https://www.jpegphotoclub.fr/wp-content/uploads/2025/11/Ateliers-du-jeudi-580.png
END:VEVENT
BEGIN:VEVENT
DTSTART;TZID=Europe/Paris:20260507T193000
DTEND;TZID=Europe/Paris:20260507T220000
DTSTAMP:20260423T175111
CREATED:20251209T103413Z
LAST-MODIFIED:20251209T111005Z
UID:1576-1778182200-1778191200@www.jpegphotoclub.fr
SUMMARY:Café Photo
DESCRIPTION:Repas canadien
URL:https://www.jpegphotoclub.fr/evenement/cafe-photo-5/
LOCATION:Salle BAUSSAND\, 1341 Route du Mont\, Fillière\, 74370\, France
CATEGORIES:Café photo
ATTACH;FMTTYPE=image/jpeg:https://www.jpegphotoclub.fr/wp-content/uploads/2025/12/sandwiches-9013925_640.jpg
END:VEVENT
BEGIN:VEVENT
DTSTART;TZID=Europe/Paris:20260518T080000
DTEND;TZID=Europe/Paris:20260522T200000
DTSTAMP:20260423T175111
CREATED:20251209T135528Z
LAST-MODIFIED:20251209T135529Z
UID:1599-1779091200-1779480000@www.jpegphotoclub.fr
SUMMARY:Séjour Lubéron
DESCRIPTION:Le Luberon\, situé en Provence\, est un territoire naturel et culturel d’exception\, classé Parc naturel régional. Il se distingue par ses villages perchés\, ses paysages de vignes\, d’oliviers et d’ocres colorées\, ainsi que par son art de vivre typiquement provençal. Entre patrimoine\, nature préservée et gastronomie\, le Luberon incarne une Provence authentique et lumineuse.
URL:https://www.jpegphotoclub.fr/evenement/sejour-luberon/
LOCATION:Lubéron\, Roussillon\, France
CATEGORIES:Evenement
ATTACH;FMTTYPE=image/jpeg:https://www.jpegphotoclub.fr/wp-content/uploads/2025/12/luberon.jpg
END:VEVENT
BEGIN:VEVENT
DTSTART;TZID=Europe/Paris:20260526T193000
DTEND;TZID=Europe/Paris:20260526T220000
DTSTAMP:20260423T175111
CREATED:20251209T140006Z
LAST-MODIFIED:20251209T141335Z
UID:1604-1779823800-1779832800@www.jpegphotoclub.fr
SUMMARY:Séance plénière
DESCRIPTION:Résultat UR11 – M7-Ombre et Lumière \n\n\n\nSélection des photos UR11 – M8 – Humour \n\n\n\n \n\n\n\nSoirée Auteurs
URL:https://www.jpegphotoclub.fr/evenement/seance-pleniere-16/
LOCATION:Salle BAUSSAND\, 1341 Route du Mont\, Fillière\, 74370\, France
CATEGORIES:Pleniere
ATTACH;FMTTYPE=image/webp:https://www.jpegphotoclub.fr/wp-content/uploads/2025/12/SMB-chef-lieu.webp
END:VEVENT
BEGIN:VEVENT
DTSTART;TZID=Europe/Paris:20260602T080000
DTEND;TZID=Europe/Paris:20260602T200000
DTSTAMP:20260423T175111
CREATED:20251209T140951Z
LAST-MODIFIED:20251209T150535Z
UID:1607-1780387200-1780430400@www.jpegphotoclub.fr
SUMMARY:Sortie Sabots de Vénus
DESCRIPTION:Analyse JPEG\n\n\n\nLe sabot de Vénus (Cypripedium calceolus) est l’une des orchidées sauvages les plus remarquables d’Europe. Facilement reconnaissable à sa grande fleur jaune en forme de sabot\, entourée de pétales brun-pourpre\, elle doit son nom à sa silhouette évoquant une chaussure.
URL:https://www.jpegphotoclub.fr/evenement/sortie-sabots-de-venus/
LOCATION:Col de Planbois\, col de Plan Bois\, Les Clefs\, France
CATEGORIES:Evenement
ATTACH;FMTTYPE=image/jpeg:https://www.jpegphotoclub.fr/wp-content/uploads/2025/12/Sabot_de_Venus-3404.jpg
END:VEVENT
BEGIN:VEVENT
DTSTART;TZID=Europe/Paris:20260604T140000
DTEND;TZID=Europe/Paris:20260604T183000
DTSTAMP:20260423T175111
CREATED:20251209T141043Z
LAST-MODIFIED:20251209T141043Z
UID:1612-1780581600-1780597800@www.jpegphotoclub.fr
SUMMARY:Atelier technique
DESCRIPTION:Selon demande des adhérents et adhérents
URL:https://www.jpegphotoclub.fr/evenement/atelier-technique-5/
LOCATION:Salle BAUSSAND\, 1341 Route du Mont\, Fillière\, 74370\, France
CATEGORIES:Atelier
ATTACH;FMTTYPE=image/png:https://www.jpegphotoclub.fr/wp-content/uploads/2025/11/Ateliers-du-jeudi-580.png
END:VEVENT
BEGIN:VEVENT
DTSTART;TZID=Europe/Paris:20260604T193000
DTEND;TZID=Europe/Paris:20260604T220000
DTSTAMP:20260423T175111
CREATED:20251209T141121Z
LAST-MODIFIED:20251209T141121Z
UID:1614-1780601400-1780610400@www.jpegphotoclub.fr
SUMMARY:Café Photo
DESCRIPTION:Repas canadien
URL:https://www.jpegphotoclub.fr/evenement/cafe-photo-7/
LOCATION:Salle BAUSSAND\, 1341 Route du Mont\, Fillière\, 74370\, France
CATEGORIES:Café photo
ATTACH;FMTTYPE=image/jpeg:https://www.jpegphotoclub.fr/wp-content/uploads/2025/12/sandwiches-9013925_640.jpg
END:VEVENT
BEGIN:VEVENT
DTSTART;TZID=Europe/Paris:20260609T193000
DTEND;TZID=Europe/Paris:20260609T220000
DTSTAMP:20260423T175111
CREATED:20251209T141534Z
LAST-MODIFIED:20251209T141535Z
UID:1617-1781033400-1781042400@www.jpegphotoclub.fr
SUMMARY:Séance plénière
DESCRIPTION:Projection\, analyse des photos du DéfiPhot de mai et attribution des coups de cœurs \n\n\n\nSoirée Auteur séjour Lubéron et abots de Vénus
URL:https://www.jpegphotoclub.fr/evenement/seance-pleniere-17/
LOCATION:Salle BAUSSAND\, 1341 Route du Mont\, Fillière\, 74370\, France
CATEGORIES:Pleniere
ATTACH;FMTTYPE=image/webp:https://www.jpegphotoclub.fr/wp-content/uploads/2025/12/SMB-chef-lieu.webp
END:VEVENT
BEGIN:VEVENT
DTSTART;TZID=Europe/Paris:20260616T090000
DTEND;TZID=Europe/Paris:20260616T120000
DTSTAMP:20260423T175111
CREATED:20260417T093540Z
LAST-MODIFIED:20260417T093542Z
UID:1965-1781600400-1781611200@www.jpegphotoclub.fr
SUMMARY:Exposition 2026 - Centre Hospitalier Annecy-Genevois - Accrochage
DESCRIPTION:Accrochage de l’exposition et celle-ci sera visible jusqu’au 10 août 2026
URL:https://www.jpegphotoclub.fr/evenement/exposition-2026-centre-hospitalier-annecy-genevois-accrochage/
LOCATION:Centre hospitalier Annecy Genevois\, 1 avenue de l'hôpital\, Epagny Metz-Tessy\, France
CATEGORIES:Exposition
ATTACH;FMTTYPE=image/webp:https://www.jpegphotoclub.fr/wp-content/uploads/2026/03/Tma-cherchez-lintrus-cest-chouette-copie.webp
END:VEVENT
BEGIN:VEVENT
DTSTART;TZID=Europe/Paris:20260617T000000
DTEND;TZID=Europe/Paris:20260810T235959
DTSTAMP:20260423T175111
CREATED:20260417T093251Z
LAST-MODIFIED:20260417T093713Z
UID:1961-1781654400-1786406399@www.jpegphotoclub.fr
SUMMARY:Exposition 2026 - Centre Hospitalier Annecy-Genevois
DESCRIPTION:Accrochage de l’exposition et celle-ci sera visible jusqu’au 10 août 2026
URL:https://www.jpegphotoclub.fr/evenement/exposition-2026-centre-hospitalier-annecy-genevois/
LOCATION:Centre hospitalier Annecy Genevois\, 1 avenue de l'hôpital\, Epagny Metz-Tessy\, France
CATEGORIES:Exposition
ATTACH;FMTTYPE=image/webp:https://www.jpegphotoclub.fr/wp-content/uploads/2026/03/Tma-cherchez-lintrus-cest-chouette-copie.webp
END:VEVENT
BEGIN:VEVENT
DTSTART;TZID=Europe/Paris:20260625T180000
DTEND;TZID=Europe/Paris:20260625T220000
DTSTAMP:20260423T175111
CREATED:20251209T142318Z
LAST-MODIFIED:20251209T142337Z
UID:1619-1782410400-1782424800@www.jpegphotoclub.fr
SUMMARY:Clôture de la saison
DESCRIPTION:Résultat UR11 – M8-Humour \n\n\n\nProjection\, analyse et attribution des “Jpeg” pour le DéfiPhot Annuel “La Forêt” \n\n\n\nBilan de la saison lors du Café Photo de clôture \n\n\n\n \n\n\n\n \n\n\n\nSoirée Auteurs
URL:https://www.jpegphotoclub.fr/evenement/cloture-de-la-saison/
LOCATION:Salle BAUSSAND\, 1341 Route du Mont\, Fillière\, 74370\, France
CATEGORIES:Pleniere
ATTACH;FMTTYPE=image/jpeg:https://www.jpegphotoclub.fr/wp-content/uploads/2025/12/foret.jpg
END:VEVENT
END:VCALENDAR